BEGIN:VCALENDAR
VERSION:2.0
PRODID:-//Instituto de Mediación Integradora - ECPv5.2.0//NONSGML v1.0//EN
CALSCALE:GREGORIAN
METHOD:PUBLISH
X-WR-CALNAME:Instituto de Mediación Integradora
X-ORIGINAL-URL:http://www.imediacionintegradora.com
X-WR-CALDESC:Eventos para Instituto de Mediación Integradora
BEGIN:VTIMEZONE
TZID:UTC
BEGIN:STANDARD
TZOFFSETFROM:+0000
TZOFFSETTO:+0000
TZNAME:UTC
DTSTART:20160101T000000
END:STANDARD
END:VTIMEZONE
BEGIN:VEVENT
DTSTART;VALUE=DATE:20160513
DTEND;VALUE=DATE:20160615
DTSTAMP:20260421T220955
CREATED:20160407T221421Z
LAST-MODIFIED:20160423T224919Z
UID:20-1463097600-1465948799@www.imediacionintegradora.com
SUMMARY:Curso de desarrollo de la actitud mediadora integradora en la empresa y habilidades negociadoras
DESCRIPTION:Inscripción: 80 €. Dos plazos de 200 € Posibilidad financiación fundación tripartita. \nDuración: 52 h0ras (tres fines de semana\, viernes de 16 a 21 y sábados de 9:30 a 14:30 y de 16:00 a 19:30; en el caso de fin de semana de sábado y domingo: sábado de 9:30 a 14:30 y de 16:00 a 19:30 y domingo de 9:30 a 14:30) \nMetodología: presencial\nInscripción \n\nPrograma\nTema 1: actitud mediadora integradora para la empresa: habilidades de mediación y negociadoras. La figura del facilitador en las organizaciones.\nTema 2: pnl para la empresa\nTema 3:  coaching sistémico para las organizaciones empresariales.\n13 y 14 de mayo (viernes y sábado) \n21 y 22 de mayo (sábado y domingo) \n3 y 4 de junio (viernes y sábado) \n17 y 18 de junio (viernes y sábado) \nCurso de desarrollo de la actitud mediadora integradora en la empresa y habilidades negociadoras
URL:http://www.imediacionintegradora.com/curso/curso-de-desarrollo-de-la-actitud-mediadora-integradora-en-la-empresa-y-habilidades-negociadoras/
ORGANIZER;CN="Instituto%20de%20Mediaci%C3%B3n%20Integradora":MAILTO:info@imediacionintegradora.com
END:VEVENT
END:VCALENDAR