BEGIN:VCALENDAR
VERSION:2.0
PRODID:-//Instituto de Mediación Integradora - ECPv5.2.0//NONSGML v1.0//EN
CALSCALE:GREGORIAN
METHOD:PUBLISH
X-WR-CALNAME:Instituto de Mediación Integradora
X-ORIGINAL-URL:http://www.imediacionintegradora.com
X-WR-CALDESC:Eventos para Instituto de Mediación Integradora
BEGIN:VTIMEZONE
TZID:UTC
BEGIN:STANDARD
TZOFFSETFROM:+0000
TZOFFSETTO:+0000
TZNAME:UTC
DTSTART:20180101T000000
END:STANDARD
END:VTIMEZONE
BEGIN:VEVENT
DTSTART;VALUE=DATE:20180223
DTEND;VALUE=DATE:20180408
DTSTAMP:20260420T233915
CREATED:20171126T213426Z
LAST-MODIFIED:20171127T095211Z
UID:333-1519344000-1523145599@www.imediacionintegradora.com
SUMMARY:Curso de Mediación Integradora Civil y Mercantil (Sevilla)
DESCRIPTION:Curso de Mediación Integradora Civil y Mercantil incluido expedición de Título de Mediador Civil y Mercantil conforme Ley 5/12 y RD980/13\nDuración: 125 horas.\nMetodología: semipresencial.\nPrecio: 1260€ | Inscripción: 260€ | 4 plazos: 250 €\nInscripciones realizadas antes del 31 de enero: 1200 € | Inscripción: 200€ | 4 plazos: 250 €\nPago pronto total antes del 31 de enero o asociados de la CES: 1160 € \nCurso de Adaptación a la Mediación Integradora\nDuración: 60 horas \nMetodología: presencial\nPrecio: 600€ | Inscripción: 200€ | 4 plazos: 100 €(coincidentes con fines de semana presenciales del Curso de Mediación Integradora Civil y Mercantil)\nInscripciones realizadas antes del 31 de enero: 550 € | Inscripción: 150€ | 4 plazos: 100 €\nPago pronto total antes del 31 de enero o asociados de la CES: 500 € \nTítulo que faculta para el ejercicio de la profesión de mediador conforme ley 5/12\, homologado por el ministerio de justicia\, con la posibilidad de acceder al registro nacional de mediadores\, así como al registro de mediadores de los centros de mediación integradora de la confederación de empresarios de Sevilla.\nInscripción \n\nDesplegar todo | Plegar todo \nPrograma\n\nUNIDAD 1: MEDIACIÓN CIVIL Y MERCANTIL\n\nDiagnóstico del conflicto\nMediación y proceso\nADR y Mediación. Negociación.\nMarco legislativo en el que se enmarca la Mediación\nLegislación sustantiva que la acoge\nConocimientos jurídicos para mediadores\nMediación en la empresa\nMediación por medios electrónicos\n\n\nUNIDAD 2: LA MEDIACIÓN INTEGRADORA. PROCEDIMIENTO Y TÉCNICAS\n\nLas escuelas o métodos en la Mediación: Método integrador\nIntegrar y gestionar emociones: perspectiva psicológica\nHabilidades comunicativas desde la Mediación Integradora\nMetamodelos del lenguaje\nLa figura del facilitador en las organizaciones\n\n\nUNIDAD 3: MEDIACIÓN Y PNL\, COMO HERRAMIENTA DEL MÉTODO INTEGRADOR\n\nMediación y PNL\nEntender\nNiveles Neurológicos\nRomper paradigmas obstaculizadores\nRapport\nComunicación\nArgumentación y negociación\nEstados emocionales y procesos mentales\n\n\nUNIDAD 4: COACHING SISTÉMICO APLICADO A LA MEDIACIÓN\n\nConcepto de sistema y sistemas\nCaracterísticas del sistema\nCoaching de sistemas relacionales y Mediación\nHerramientas del Coaching de relaciones\nLa tercera entidad: la relación y los mediados.\nTeoria del cambio\nGeografía del sistema\nLos niveles de la realidad en el conflicto\n\n\nUNIDAD 5: MEDIACIÓN FAMILIAR\n\nContexto legal de la Mediación Familiar\nDerecho de familia para mediadores\nMediación familiar y el método integrador\nEmpresa y familia\n\n\n\nDirigido:\nA los interesados en conocer técnicas y habilidades de comunicación\, mediación y negociación que pueden utilizar en su vida personal y profesional y/o quiera obtener el título que le habilite para ejercer como mediador. \nObjetivos\, desde la Mediación Integradora:\n\nFormar la actitud del papel del mediador profesional\, quién deberá saber reconocer y gestionar las emociones e intereses en las situaciones de conflictos\, interviniendo como parte neutral\, imparcial e independiente.\nAprender a diagnosticar la naturaleza de un conflicto.\nEntender el conflicto como un elemento inherente a las relaciones sociales\, civiles\, mercantiles.\nSaber analizar el conflicto desde la perspectiva mediadora y a través de los conocimientos básicos que describen el contexto en el que se desenvuelve.\nConocer los mecanismo de afrontamiento y resolución de conflictos\, sus diferencias\, y aplicación adecuada de los mismos.\nConocer y controlar el desarrollo del proceso de mediación en sus diferentes áreas.\nConocer las técnicas\, herramientas\, métodos y habilidades propias de la Mediación\, y obtener un manejo de las mismas para gestionar de una manera profesionalel conflicto.\nConocer las herramientas propias de la Mediación Integradora y su utilización en el campo de la Mediación: PNL y Coaching sistémico.\nConocer cuál es el rol del mediador y los fundamentos de la profesión.\n\nMetodología\nEl Curso de Mediación Integradora Civil y Mercantil\, sigue una metodología propia a través del método integrador propio del IMI\, que aplica herramientas de la PNL y del Coaching sistémico\, al proceso de Mediación\, así como al Mediador\, generando actitud y aptitud\, de forma dinámica\, práctica y abierta que fomenta el trabajo significativo del participante\, consistente en : \n\nClases teórico-prácticas con entrenamiento en las habilidades\, métodos y técnicas de los procesos de mediación.\nDocumentación especializada\nRealización de casos prácticos\nRol play\nVisualización de videos\n\nLos profesores son mediadores profesionales altamente cualificados\, así como profesores especialistas en cada una de las materias a impartir. \n\n\nINSTITUTO    DE MEDIACIÓN INTEGRADORA. PROGRAMA PRESENCIAL.\n\n\n \nFEBRERO\nFEBRERO\nMARZO\nMARZO\n\n\n2018\nFechas    y horarios\nViernes    23\, de 16:00 a 21:00 h.\nSábado    24\, de 9:30 a 14:30 y de 16:00 a 21:00\nViernes    9\, de 16:00 a 21:00 h.\nSábado    10\, de 9:30 a 14:30 y de 16:00 a 21:00\n\n\nMaterias\nMediación Integradora\nHabilidades\nFacilitación y Mediación Integradora\nCoaching Sistémico\nCoaching Sistémico\n\n\n \nMARZO\nMARZO\nABRIL\nABRIL\n\n\n2018\nFechas    y horarios\nViernes    16\, de 16:00 a 21:00 h.\nSábado    17\, de 9:30 a 14:30 y de 16:00 a 21:00\nViernes    6\, de 16:00 a 21:00 h.\nSábado    7\, de 9:30 a 14:30 y de 16:00 a 21:00\n\n\nMaterias\nPNL\nPNL\nMediación Familiar\nAplicación práctica\nNegociación\nMediación Empresarial\nAplicación práctica\n\n\nPrincipales formadores entre otros altamente cualificados\n\n \nDra.Mª del Castillo Falcón Caro\nDoctora Jurista. Mediadora. \n Info \n\nDirectora y Responsable de Formación en el Instituto de Mediación  Integradora.www.imediacionintegradora.com\nCreadora del Método integrador ww.castillofalcon.com\nDirectora del Centro de Mediación Integradora de la Confederación de Empresarios de Sevilla \nAutora del libro “La Escuela Integradora. Para el ejercicio personal y profesional de la Mediación” publicado por la editorial Athenaica y de la monografía titulada “Malos tratos habituales a la mujer”\, publicado por la editorial Javier Bosch\, en Barcelona\, y por la Universidad Externado de Colombia. \nHa intervenido en numerosos Cursos\, Seminarios y Congresos y organizando cursos de mediación en sus diferentes especialidades. \nHa publicado igualmente numerosos artículos en revistas jurídicas como Cuadernos de Política Criminal\,  y en otras revistas especializadas\, así como colaboradora en diferentes libros\, y.  Así como. \nDesempeña el cargo de JUEZ Stta. desde 1998 hasta 2004\, año en el que fue nombrada por concurso de méritos FISCAL Stta\, ejerciendo como tal desde ese año en la Fiscalía de la Audiencia Provincial de Sevilla. \nJurista especialista en Derecho Penal\, MEDIACIÓN Y RESOLUCIÓN DE CONFLICTOS. Ejerce igualmente como MEDIADORA.\nExperta en Justicia de Menores. Master en PNL (Programación Neurolingüística). \nPROFESORA DE GRADO en la Universidad Europea de Madrid\, de la asignatura MEDIACIÓN Y RESOLUCIÓN DE CONFLICTOS\, elaborando el programa en su integridad.\nProfesora en la Universidad Hispalense. \nProfesora en el curso de Experto en Victimología en la Universidad Hispalense. \nDOCTORA en Derecho\,por la Universidad de Sevilla\, obteniendo la máxima calificación académica de “Sobresaliente cum laude por unanimidad”. \nOstenta dos Licenciaturas\, una en Derecho\, por la Universidad de Sevilla y otra en Criminología por la Universidad Europea de Madrid y varios Títulos de Experto. \n\n\n\n \nDª. Bárbara Bermúdez\nExperta en Coaching aplicado a la Mediación. Mediadora \n Info \n\nTrainer\, Life & Executive Coach\, facilitadora de coaching para Equipos y experta en Coaching aplicado a la mediación.\nOrientada a la transformación y el despertar de personas y grupos. Facilita el despliegue del talento y el potencial tanto de individuos\, parejas y equipos con el fin de que\, ellos mismos\, reorienten sus pensamientos\, emociones y conductas hacia un lugar mas productivo\, feliz y en linea con sus valores y su potencial. \nActualmente es Trainer en el IMI (Instituto de Mediación Integradora) en la formación sobre técnicas de Coaching Sistémico (ORSC) adaptadas al Metodo Integrador©.\nEjerce como Coach de equipos para empresas de diferentes industrias (automoción\, químicas\, etc) en España y Alemania. Es formadora en el desarrollo humano y profesional con el objetivo de mejorar el rendimiento del factor humano en las empresas potenciando las capacidades innatas de sus empleados y directivos mediante herramientas de Coaching y formación en Liderazgo. \nComo Coach individual\, Bárbara acompaña a sus clientes para que se muevan al siguiente nivel de crecimiento y plenitud mediante la toma de conciencia de todo su potencial y valores\, para vivirlos en su dia a dia\, en sus carreras profesionales y en las empresas.\nHa trabajado alrededor de 18 años para distintas empresas (DuPont de Nemours\, Credit Suisse\, The Boston Consulting Group y Bankinter) en diferentes posiciones (Consultoría\, Marketing\, Finanzas\, Supply Chain)\, de los cuales 7 años estuvo especializada en la creación\, gestión y desarrollo de equipos.\nLicenciada en Ciencias Economicas y Empresariales\, especializada en Econometría por la Universidad Autonoma de Madrid. \nFormación  \n\nCore Curriculum en Coaching de Sistemas Relacionales y Organizaciones (ORSC – CRR Global®).\nCPP con Certificación en Coaching Co-Activo por la prestigiosa escuela CTI\, (The Coaches Training Institute).\nPractitioner en PNL (Programación Neurolingüística) por la escuela de desarrollo personal Human Abilities de Barcelona.\nTitulada en Mediación Civil y Mercantil por el IMI (Instituto de Mediacion Integradora).\nFormación en el método PRH (Personalidad y Relaciones Humana) basado en las enseñanzas de André Rochais\n\n\n\n\n \nD. Jaume Serral Ventura\nTrainer NLP \n Info \n\nTrainer Internacional de PNL\, Especialista en psicoterapia e hipnosis ericksoniana\, Socio Fundador en Human Abilities. \nMáster internacional y Trainer de PNL. Después de trabajar en distintas empresas en el ámbito de dirección y formación\, descubrió una metodología que permite modificar las creencias y los estados emocionales de las personas para poder aplicarlo a los equipos comerciales. Esto provocó que se dedicara a investigar más acerca de la PNL y cambiase de rumbo profesional para dedicar su tiempo a que otras personas se pudieran beneficiar de esta metodología impartiendo formaciones tanto a nivel empresarial cómo personal.\nSu experiencia formando a personas durante 20 años le permite generar estados de conexión con los asistentes al curso haciendo una experiencia más agradable y satisfactoria.\nEspecialidades: Formaciones impartidas desde 2008: \n\n\n\n\nAtención al cliente.\nPNL para ventas.\n\n\nTécnicas de motivación.\nPNL en la comunicación.\n\n\nTécnicas de negociación.\nVentas por teléfono.\n\n\nGestión de las emociones.\nVentas (presenciales).\n\n\nGestión y resolución de conflictos.\nComo influir en los demás\n\n\nComunicación eficaz.\nHabilidades de comunicación.\n\n\nTrabajo en equipo.\nHipnosis para ventas y relaciones.\n\n\n\nSocio Fundador y Director de Human Abilities (marzo 2011-Hoy)\nFundamos Human Abilities para crear un instituto de habilidades personales y profesionales\, donde el valor principal son las personas que forman parte de las empresas o del tejido social. \nOfrecemos formación en habilidades personales\, dirigida a través de centros homologados y empresas privadas. Mi formación en Programación Neuro-lingüistica me capacita para comunicar de forma excelente y dar formaciones en grupo\, utilizando toda la capacidad de la percepción del alumno. Lo que más me satisface es generar estados en los asistentes para dejar impresa la información. Esto provoca un rápido y eficaz aprendizaje. \nMi pasión por la PNL me ha llevado a formar parte del staff en formaciones impartidas por el creador de la PNL.\nEspecialista en psicoterapia e hipnosis ericksoniana por el Instituto Erickson Madrid.\nPresidente de la asociación Social Abilities. Ha formado a directivos\, cargos públicos\, cuerpos de seguridad del estado\, entre ellos: policías\, mosso d’esquadra\, guardia civil. Formando a diferentes perfiles profesionales cómo\, abogados\, fiscales\, jueces. \nLo que más destacan los alumnos de Jaume Serral es su pasión al transmitir los conocimientos y lo fácil que hace el proceso del aprendizaje. \n\n\n\n \nDª. Mariví Rodríguez\nAbogada y mediadora \n\n\n \nDª. Virginia Ruíz Martínez\nTrabajadora social y mediadora \n\n\n \nDª. Carmen Panadero\nPsicóloga y mediadora \n\n\n \nTomás Prieto Moraleda\nAbogado mediador \n\n\n \nAntonio Reina Chamorro\nMediador. Pedagogo.Educador Social\nCreador del Método Mentoris. Especialista en Mediación Familiar Intergeneracional. \n\nCurso de Mediación Integradora Civil y Mercantil (Sevilla)
URL:http://www.imediacionintegradora.com/curso/curso-de-mediacion-integradora-civil-y-mercantil-sevilla/
CATEGORIES:mediación profesional integradora en civil y mercantil
END:VEVENT
END:VCALENDAR