BEGIN:VCALENDAR
VERSION:2.0
PRODID:-//Instituto de Mediación Integradora - ECPv5.2.0//NONSGML v1.0//EN
CALSCALE:GREGORIAN
METHOD:PUBLISH
X-WR-CALNAME:Instituto de Mediación Integradora
X-ORIGINAL-URL:http://www.imediacionintegradora.com
X-WR-CALDESC:Eventos para Instituto de Mediación Integradora
BEGIN:VTIMEZONE
TZID:UTC
BEGIN:STANDARD
TZOFFSETFROM:+0000
TZOFFSETTO:+0000
TZNAME:UTC
DTSTART:20160101T000000
END:STANDARD
END:VTIMEZONE
BEGIN:VEVENT
DTSTART;VALUE=DATE:20161015
DTEND;VALUE=DATE:20170130
DTSTAMP:20260421T135526
CREATED:20160407T114826Z
LAST-MODIFIED:20161007T093421Z
UID:10-1476489600-1485734399@www.imediacionintegradora.com
SUMMARY:Curso de mediación profesional integradora en civil y mercantil (Sevilla)
DESCRIPTION:Cancelado\nInscripción: 250 €.\nCon posibilidad financiación fundación tripartita.\nDuración: 125 horas.\nMetodología: semipresencial.\n60 horas online.\n65 presencialesTítulo que faculta para el ejercicio de la profesión de mediador conforme ley 5/12\, homologado por el ministerio de justicia\, con la posibilidad de acceder al registro nacional de mediadores\, así como al registro de mediadores de los centros de mediación integradora de la confederación de empresarios de Sevilla.\nInscripción\nPrograma:\nUnidad 1:  mediación civil\, mercantil e hipotecaria\n\nEl conflicto.\nLa mediación y proceso.\nLa negociación.\nDerecho civil para mediadores.\nDerecho mercantil para mediadores.\nMediación hipotecaria y por medios electrónicos.\n\n Unidad 2: la mediación integradora\, procedimiento y técnicas\n\nLas escuelas o métodos en la Mediación: Método integrador.\nIntegrar y gestionar emociones: perspectiva psicológica.\nHabilidades comunicativas desde la Mediación Integradora.\nLa figura del facilitador en las organizaciones empresariales.\n\nUnidad 3: mediación y pnl\, como herramienta del método integrador\n\nMediación y pnl.\nEntender.\nNiveles neurológicos.\nConstrucción de creencias.\nRapport.\nComunicación.\nArgumentación y negociación.\nEstados emocionales y procesos mentales.\n\nUnidad 4: coaching aplicado a la mediación\n\nCoaching sistémico para el mediación.\n\nUnidad 5: mediación familiar\n\nContexto legal de la mediación familiar.\nDerecho de familia para mediadores.\nMediación familiar y el método integrador.\nEmpresa y familia.\n\nPrograma presencial\nFIN DE SEMANA 1º\nSÁBADO  15 OCTUBRE\nDE 10 A 19:00 HORAS: MÉTODO INTEGRADOR Y HABILIDADES A TRAVÉS DE SU PRISMA \nDra. María del Castillo Falcón Caro. Mediadora. Jurista. \nDOMINGO  16 OCTUBRE\nDE 10:00 a 15:00: PERSPECTIVA PRÁCTICA DE LA FIGURA DEL FACILITADOR EN LAS ORGANIZACIONES EMPRESARIALES Y PRÁCTICAS RESTAURATIVAS. \nDª  Virginia Ruiz Martínez. Mediadora. Trabajadora Social \nFIN DE SEMANA 2º\nVIERNES  28 OCTUBRE\nDE 16 A 21 H: PNL PARA  LA MEDIACIÓN \nJaume Serral Ventura. Trainer PNL \nSÁBADO 29 OCTUBRE\nDE 10 a 21 H: PNL PARA LA MEDIACIÓN \nDOMINGO 30 OCTUBRE\nDE 10 A 20 H: PNL PARA  LA MEDIACIÓN \nJaume Serral Ventura. Trainer PNL \nFIN DE SEMANA 3º\nSÁBADO 19 NOVIEMBRE\nDE 10:00 A 19:00 H: COACHING PARA LA MEDIACIÓN \nDª  Bárbara Bermúdez. Coach certificada por  Coaches Training Institute. Mediadora. \nDOMINGO 20 NOVIEMBRE\nDE 9:30 A 14:30H: COACHING PARA LA MEDIACIÓN \nDª  Bárbara Bermúdez. Coach certificada por  Coaches Training Institute. Mediadora. \nFIN DE SEMANA 4º\nSÁBADO 14 ENERO\nDE 10 A 19:30 H: PRÁCTICAS MEDIADORAS  Y HABILIDADES NEGOCIADORAS \nProf. Dra. María del Castillo Falcón Caro \nJosé Miguel Bago Sotillo. Mediador Mercantil. Empresario. Ingeniero. Gerente Grupo Enersol \nDOMINGO 15 ENERO\nDE 10:00 A 15:00 H: PRÁCTICAS MEDIADORAS \nDª Mariví Rodríguez. Mediadora acreditada por CDR. Gerente y Fundadora de Compromiso de Mediación. \n\nCurso de mediación profesional integradora en civil y mercantil (Sevilla)
URL:http://www.imediacionintegradora.com/curso/curso-de-mediacion-profesional-integradora-en-civil-y-mercantil/
LOCATION:CES. Confederación de Empresarios de Sevilla\,  Calle Granada 3\, 4ª planta\, Sevilla\, Sevilla\, 41001\, España
CATEGORIES:mediación profesional integradora en civil y mercantil
ORGANIZER;CN="Instituto%20de%20Mediaci%C3%B3n%20Integradora":MAILTO:info@imediacionintegradora.com
END:VEVENT
END:VCALENDAR