BEGIN:VCALENDAR
VERSION:2.0
PRODID:-//Instituto de Mediación Integradora - ECPv5.2.0//NONSGML v1.0//EN
CALSCALE:GREGORIAN
METHOD:PUBLISH
X-WR-CALNAME:Instituto de Mediación Integradora
X-ORIGINAL-URL:http://www.imediacionintegradora.com
X-WR-CALDESC:Eventos para Instituto de Mediación Integradora
BEGIN:VTIMEZONE
TZID:UTC
BEGIN:STANDARD
TZOFFSETFROM:+0000
TZOFFSETTO:+0000
TZNAME:UTC
DTSTART:20170101T000000
END:STANDARD
END:VTIMEZONE
BEGIN:VEVENT
DTSTART;VALUE=DATE:20170217
DTEND;VALUE=DATE:20170319
DTSTAMP:20260421T050214
CREATED:20170217T081227Z
LAST-MODIFIED:20170217T081227Z
UID:189-1487289600-1489881599@www.imediacionintegradora.com
SUMMARY:Immersión en la mediación integradora
DESCRIPTION:Programa\nFIN DE SEMANA 1º:  10 Y 11 DE FEBRERO\nVIERNES 10 DE FEBRERO \n16:15 Entrega de material \nDE  16:30 A 20:30 HORAS: DIAGNÓSTICO DEL CONFLICTO Y ADR \nDra. María del Castillo Falcón Caro. Mediadora. Jurista. \nSÁBADO 11 DE FEBRERO\nDE 10:00 a 14:30 H: PERSPECTIVA PRÁCTICA DE LA FIGURA DEL FACILITADOR EN LAS ORGANIZACIONES \nDª  Virginia Ruiz Martínez. Mediadora. Trabajadora Social \nDE 16:00 A 19:30 H: TÉCNICAS DE MEDIACIÓN INTEGRADORA: EL LENGUAJE \nDra.  María del Castillo Falcón Caro \nFIN DE SEMANA 2º:  17 Y 18 DE FEBRERO\nVIERNES  17 DE FEBRERO\nDE 16:30 A 20:30 H: PNL PARA  LA MEDIACIÓN \nJaume Serral Ventura. Trainer PNL \nSÁBADO 18 DE FEBRERO\nDE 10 a 19:30 H: PNL PARA LA MEDIACIÓN \nJaume Serral Ventura. Trainer PNL \n  \nFIN DE SEMANA 3º:  3 Y 4 DE MARZO\nVIERNES 3 DE MARZO\nDE  16:30 A 20:30 HORAS:  COACHING SISTÉMICO PARA LA MEDIACIÓN \nDª  Bárbara Bermúdez. Coach certificada. Mediadora. \nSÁBADO 4 DE MARZO\nDE 10 a 19:30 H: COACHING SISTÉMICO PARA LA MEDIACIÓN \nDª  Bárbara Bermúdez. Coach certificada. Mediadora. \n FIN DE SEMANA 4º:  17 Y 18 DE MARZO\nVIERNES 17 DE MARZO\nDE 16:30 a 20:30 H: PRÁCTICAS MEDIADORAS  INTEGRADORAS EN LA FAMILIA \nProf. Dra. María del Castillo Falcón Caro \nSÁBADO 18 DE MARZO \nDE 10:00 A 14:30 H: MEDIACIÓN INTERGENERACIONAL Y GESTIÓN PRÁCTICA DE EMOCIONES \nProf. D. Antonio Reina Chamorro. Mediador. Educador Social. Psicopedagogo. \nDE 16:00 A 18:30 H: LA GESTIÓN DE EMOCIONES \nProf. Dª Carmen Panadero. Mediadora. Psicóloga. \nDE 18:30 A 19.15 H: DESPEDIDA \nProf. D. Antonio Reina Chamorro \nDe 19:15 a 19:30 h.:  CIERRE Y ENTREGA DE DIPLOMAS \nImmersión en la mediación integradora
URL:http://www.imediacionintegradora.com/curso/immersion-en-la-mediacion-integradora/
END:VEVENT
END:VCALENDAR