BEGIN:VCALENDAR
VERSION:2.0
PRODID:-//Instituto de Mediación Integradora - ECPv5.2.0//NONSGML v1.0//EN
CALSCALE:GREGORIAN
METHOD:PUBLISH
X-WR-CALNAME:Instituto de Mediación Integradora
X-ORIGINAL-URL:http://www.imediacionintegradora.com
X-WR-CALDESC:Eventos para Instituto de Mediación Integradora
BEGIN:VTIMEZONE
TZID:UTC
BEGIN:STANDARD
TZOFFSETFROM:+0000
TZOFFSETTO:+0000
TZNAME:UTC
DTSTART:20160101T000000
END:STANDARD
END:VTIMEZONE
BEGIN:VEVENT
DTSTART;VALUE=DATE:20161028
DTEND;VALUE=DATE:20161030
DTSTAMP:20260421T095106
CREATED:20161007T090607Z
LAST-MODIFIED:20161007T090849Z
UID:136-1477612800-1477785599@www.imediacionintegradora.com
SUMMARY:PNL para la Mediación y la Negociación
DESCRIPTION:Módulo exclusivo. Plazas limitadas.\nDestinatarios: todos aquellos interesados en esta herramienta de la comunicación\, de la mediación y de la negociación: la Programación Neurolingüística\nMetodología: Presencial.\nInscripción\nPrograma:\n\nMediación y pnl.\nEntender.\nNiveles neurológicos.\nConstrucción de creencias.\nRapport.\nComunicación.\nArgumentación y negociación.\nEstados emocionales y procesos mentales.\n\n\nVIERNES  28 OCTUBRE\nDE 16:30 A 20:30 \nSÁBADO 29 OCTUBRE\nDE 10:00 A 19:00 \nPNL para la Mediación y la Negociación
URL:http://www.imediacionintegradora.com/curso/pnl-para-la-mediacion-y-la-negociacion/
LOCATION:CES. Confederación de Empresarios de Sevilla\,  Calle Granada 3\, 4ª planta\, Sevilla\, Sevilla\, 41001\, España
CATEGORIES:mediación profesional integradora en civil y mercantil
ORGANIZER;CN="Instituto%20de%20Mediaci%C3%B3n%20Integradora":MAILTO:info@imediacionintegradora.com
END:VEVENT
END:VCALENDAR